BEGIN:VCALENDAR
PRODID:-//kirchenweb.ch gmbh//veranstaltungsausgabe v2.0//DE
VERSION:2.0
METHOD:PUBLISH
BEGIN:VEVENT
DTSTART;VALUE=DATE:20260505
DTEND;VALUE=DATE:20260506
LOCATION:Ref. Kirchgemeindehaus Pfäffikon\, Hofstrasse 2a\, 8808
  Pfäffikon
TRANSP:OPAQUE
SEQUENCE:0
UID:11754-veranstaltung@refkirchehoefe.ch
DTSTAMP:20260105T113105Z
DESCRIPTION:Kontakt: Alexander Götz\n\nWeitere Infos:
  https://www.refkirchehoefe.ch/veranstaltung/11754
SUMMARY:Velotour in Europa Park
PRIORITY:5
X-MICROSOFT-CDO-IMPORTANCE:1
CLASS:PUBLIC
END:VEVENT
END:VCALENDAR
