BEGIN:VCALENDAR
PRODID:-//kirchenweb.ch gmbh//veranstaltungsausgabe v2.0//DE
VERSION:2.0
METHOD:PUBLISH
BEGIN:VEVENT
DTSTART:20260304T180000Z
DTEND:20260304T193000Z
LOCATION:Ref. Kirchgemeindehaus Pfäffikon\, Hofstrasse 2a\, 8808
  Pfäffikon
TRANSP:OPAQUE
SEQUENCE:0
UID:11764-veranstaltung@refkirchehoefe.ch
DTSTAMP:20260225T125008Z
DESCRIPTION:Gesprächskreis – eine Insel inmitten des Alltags. Ein Ort
  der Begegnung\, des Austauschs und des Auftankens.\n\nWir hören
  gemeinsam auf biblische Impulse und diskutieren über verschiedenen
  Themen des Lebens und Glaubens. Lieder\, Stille und ein Segen umrahmen
  diese Zeit.\n\nThema: Die Psalmen - ein Musiker und ein Künstler
  erzählen (Serie)\n\nKontakt: Email:
  rahel.eggenberger@refkirchehoefe.ch\, Tel. 043 888 01 19
  (Dienstag-Freitag)\n\nKontakt: Pfarrerin Rahel Eggenberger\n\nWeitere
  Infos: https://www.refkirchehoefe.ch/veranstaltung/11764
SUMMARY:Gesprächskreis
PRIORITY:5
X-MICROSOFT-CDO-IMPORTANCE:1
CLASS:PUBLIC
END:VEVENT
END:VCALENDAR
