BEGIN:VCALENDAR
PRODID:-//kirchenweb.ch gmbh//veranstaltungsausgabe v2.0//DE
VERSION:2.0
METHOD:PUBLISH
BEGIN:VEVENT
DTSTART:20260521T174500Z
DTEND:20260521T184500Z
LOCATION:Kirche St. Peter und Paul\, \,  Insel Ufenau
TRANSP:OPAQUE
SEQUENCE:0
UID:11788-veranstaltung@refkirchehoefe.ch
DTSTAMP:20260323T200759Z
DESCRIPTION:Herzlich willkommen zur ökumenischen Feier mit Liedern aus
  Taizé\, Gebeten\, Kerzen\, einem Impuls und Raum für die Stille.\n\n\n
 \nKontakt: Elisabeth Härter und Brigida Arndgen\n\nWeitere Infos:
  https://www.refkirchehoefe.ch/veranstaltung/11788
SUMMARY:Ökumenisches Abendgebet
PRIORITY:5
X-MICROSOFT-CDO-IMPORTANCE:1
CLASS:PUBLIC
END:VEVENT
END:VCALENDAR
