BEGIN:VCALENDAR
PRODID:-//kirchenweb.ch gmbh//veranstaltungsausgabe v2.0//DE
VERSION:2.0
METHOD:PUBLISH
BEGIN:VEVENT
DTSTART:20260917T173000Z
DTEND:20260917T183000Z
LOCATION:Ref. Kirche Wollerau in Wilen\, Kirchweg\, 8832 Wilen
TRANSP:OPAQUE
SEQUENCE:0
UID:11792-veranstaltung@refkirchehoefe.ch
DTSTAMP:20251219T143223Z
DESCRIPTION:Herzlich willkommen zur ökumenischen Feier mit Liedern aus
  Taizé\, Gebeten\, Kerzen\, einem Impuls und Raum für die Stille.\n\n\n
 \nKontakt: Pfarrerin Rahel Eggenberger und Team\n\nWeitere Infos:
  https://www.refkirchehoefe.ch/veranstaltung/11792
SUMMARY:Ökumenisches Abendgebet
PRIORITY:5
X-MICROSOFT-CDO-IMPORTANCE:1
CLASS:PUBLIC
END:VEVENT
END:VCALENDAR
