BEGIN:VCALENDAR
PRODID:-//kirchenweb.ch gmbh//veranstaltungsausgabe v2.0//DE
VERSION:2.0
METHOD:PUBLISH
BEGIN:VEVENT
DTSTART:20261022T173000Z
DTEND:20261022T183000Z
LOCATION:Katholische Pfarrkirche St. Jakobus der Ältere\, Dorfstrasse
  37\, 8835 Feusisberg
TRANSP:OPAQUE
SEQUENCE:0
UID:11793-veranstaltung@refkirchehoefe.ch
DTSTAMP:20251219T143258Z
DESCRIPTION:Herzlich willkommen zur ökumenischen Feier mit Liedern aus
  Taizé\, Gebeten\, Kerzen\, einem Impuls und Raum für die Stille.\n\n\n
 \nKontakt: Pfarrerin Rahel Eggenberger und Team\n\nWeitere Infos:
  https://www.refkirchehoefe.ch/veranstaltung/11793
SUMMARY:Ökumenisches Abendgebet
PRIORITY:5
X-MICROSOFT-CDO-IMPORTANCE:1
CLASS:PUBLIC
END:VEVENT
END:VCALENDAR
