BEGIN:VCALENDAR
PRODID:-//kirchenweb.ch gmbh//veranstaltungsausgabe v2.0//DE
VERSION:2.0
METHOD:PUBLISH
BEGIN:VEVENT
DTSTART;VALUE=DATE:20260520
DTEND;VALUE=DATE:20260521
LOCATION:Ausflug ins Neeracherried mit Führung\, \,
TRANSP:OPAQUE
SEQUENCE:0
UID:11904-veranstaltung@refkirchehoefe.ch
DTSTAMP:20260408T120725Z
DESCRIPTION:An diesem Tag fahren wir mit dem Car zum BirdLife-Naturzentrum
  Neeracherried. Nach Kaffee und Gipfeli geht es auf eine spannende
  Führung durch das Ried mit Schwerpunkt Lebensraum Ried und
  Vogelbeobachtungen. \nVoller Eindrücke geht es dann ins nahe
  Restaurant\, wo wir beim Essen die Gemeinschaft geniessen können. 
 \nDanach kann noch etwas auf eigene Faust oder als Gruppe am Ried spaziert
  werden\, bevor wir uns auf den Rückweg machen. \nRückkehr ca. 17.00
  Uhr.\nDer Ausflug richtet sich an aktive 64plus-Menschen\, die gern zu
  Fuss unterwegs sind.\n\nKostenbeitrag: Fr. 45.-\n\nKontakt: Elisabeth
  Härter\n\nWeitere Infos:
  https://www.refkirchehoefe.ch/veranstaltung/11904
SUMMARY:64plus aktiv Tagesausflug
PRIORITY:5
X-MICROSOFT-CDO-IMPORTANCE:1
CLASS:PUBLIC
END:VEVENT
END:VCALENDAR
