BEGIN:VCALENDAR
PRODID:-//kirchenweb.ch gmbh//veranstaltungsausgabe v2.0//DE
VERSION:2.0
METHOD:PUBLISH
BEGIN:VEVENT
DTSTART;VALUE=DATE:20260923
DTEND;VALUE=DATE:20260924
LOCATION:in Planung\, \,
TRANSP:OPAQUE
SEQUENCE:0
UID:11905-veranstaltung@refkirchehoefe.ch
DTSTAMP:20260318T131911Z
DESCRIPTION:Kostenbeitrag: Fr. 45.-\n\nKontakt: Elisabeth Härter\n
 \nWeitere Infos: https://www.refkirchehoefe.ch/veranstaltung/11905
SUMMARY:64plus aktiv Tagesausflug
PRIORITY:5
X-MICROSOFT-CDO-IMPORTANCE:1
CLASS:PUBLIC
END:VEVENT
END:VCALENDAR
