BEGIN:VCALENDAR
PRODID:-//kirchenweb.ch gmbh//veranstaltungsausgabe v2.0//DE
VERSION:2.0
METHOD:PUBLISH
BEGIN:VEVENT
DTSTART:20270105T110000Z
DTEND:20270105T160000Z
LOCATION:Ref. Kirchgemeindehaus Pfäffikon\, Hofstrasse 2a\, 8808
  Pfäffikon
TRANSP:OPAQUE
SEQUENCE:0
UID:12005-veranstaltung@refkirchehoefe.ch
DTSTAMP:20250605T113236Z
DESCRIPTION:Keine Lust zu kochen?\nVon Anfang Oktober bis Ende Mai dürfen
  sich Senioren und Seniorinnen\, ob reformiert oder katholisch jeden
  Dienstag auf einen gemütlichen Mittag freuen. Es wird ein feines
  Mittagessen von treuen\, besorgten Helferinnen serviert. Dazu gehört
  auch ein hausgemachtes Dessert. \n\n\nKontakt: Elisabeth Härter\n
 \nWeitere Infos: https://www.refkirchehoefe.ch/veranstaltung/12005
SUMMARY:Gfreuts Ässe - ein Mittagessen in Gesellschaft
PRIORITY:5
X-MICROSOFT-CDO-IMPORTANCE:1
CLASS:PUBLIC
END:VEVENT
END:VCALENDAR
