BEGIN:VCALENDAR
PRODID:-//kirchenweb.ch gmbh//veranstaltungsausgabe v2.0//DE
VERSION:2.0
METHOD:PUBLISH
BEGIN:VEVENT
DTSTART:20260628T170000Z
DTEND:20260628T180000Z
LOCATION:Ref. Kirchgemeindehaus Pfäffikon\, Hofstrasse 2\, 8808
  Pfäffikon
TRANSP:OPAQUE
SEQUENCE:0
UID:12251-veranstaltung@refkirchehoefe.ch
DTSTAMP:20260412T120137Z
DESCRIPTION:Dieser punkt7-Gottesdienst wird als generationenübergreifende
  Feier gestaltet. Die Gemeinde ist herzlich eingeladen\, zusammen mit den
  (Bald-)Oberstufenschülern und ihren Eltern den Sonntagabend ausklingen
  zu lassen. \n\n\nKontakt: Pfarrer Daniel Lippuner\n\nWeitere Infos:
  https://www.refkirchehoefe.ch/veranstaltung/12251
SUMMARY:(punkt7 x foundship)-Gottesdienst – Begegnung der Generationen
PRIORITY:5
X-MICROSOFT-CDO-IMPORTANCE:1
CLASS:PUBLIC
END:VEVENT
END:VCALENDAR
