BEGIN:VCALENDAR
PRODID:-//kirchenweb.ch gmbh//veranstaltungsausgabe v2.0//DE
VERSION:2.0
METHOD:PUBLISH
BEGIN:VEVENT
DTSTART:20261026T180000Z
DTEND:20261026T203000Z
LOCATION:Ref. Kirchgemeindehaus Pfäffikon\, Hofstrasse 2a\, 8808
  Pfäffikon
TRANSP:OPAQUE
SEQUENCE:0
UID:12439-veranstaltung@refkirchehoefe.ch
DTSTAMP:20250807T091129Z
DESCRIPTION:Montagabends lädt der Projektchor zu seinen Chorproben ein.
  Wir beginnen fakultativ mit Stimmbildung um 19.00 Uhr. Um 19h30 ist dann
  die eigentliche Chorprobe. \n2026 gestalten wir uns alljährliches
  Herbstkonzert etwas anders: zusammen mit dem Konzertchor Sängerbund
  Uster und dem Musikverein Verena Wollerau führen wir Orffs Carmina
  burana auf!\n\nKontakt: Alexander Seidel\n\nWeitere Infos:
  https://www.refkirchehoefe.ch/veranstaltung/12439
SUMMARY:Projektchor Höfe - Chorprobe Carmina burana
PRIORITY:5
X-MICROSOFT-CDO-IMPORTANCE:1
CLASS:PUBLIC
END:VEVENT
END:VCALENDAR
