BEGIN:VCALENDAR
PRODID:-//kirchenweb.ch gmbh//veranstaltungsausgabe v2.0//DE
VERSION:2.0
METHOD:PUBLISH
BEGIN:VEVENT
DTSTART:20261031T090000Z
DTEND:20261031T170000Z
LOCATION:Ref. Kirche Wollerau in Wilen\, Kirchweg\, 8832 Wilen
TRANSP:OPAQUE
SEQUENCE:0
UID:12443-veranstaltung@refkirchehoefe.ch
DTSTAMP:20260109T102410Z
DESCRIPTION:Die beiden Probensamstage für das alljährliche Herbstkonzert
  dienen der vertieften Vorbereitung. 2026 proben wir für Konzerte mit
  Carl Orffs Carmina burana zusammen mit dem Konzertchor Sängerbund Uster.
 \n\nKontakt: Alexander Seidel\n\nWeitere Infos:
  https://www.refkirchehoefe.ch/veranstaltung/12443
SUMMARY:Projektchor Höfe - Chorprobe Carmina burana
PRIORITY:5
X-MICROSOFT-CDO-IMPORTANCE:1
CLASS:PUBLIC
END:VEVENT
END:VCALENDAR
