BEGIN:VCALENDAR
PRODID:-//kirchenweb.ch gmbh//veranstaltungsausgabe v2.0//DE
VERSION:2.0
METHOD:PUBLISH
BEGIN:VEVENT
DTSTART:20261115T180000Z
DTEND:20261115T200000Z
LOCATION:Ref. Kirchgemeindehaus Pfäffikon\, Hofstrasse 2a\, 8808
  Pfäffikon
TRANSP:OPAQUE
SEQUENCE:0
UID:12527-veranstaltung@refkirchehoefe.ch
DTSTAMP:20260314T093523Z
DESCRIPTION:Lobpreis – Impuls – Gebet für Heilung und Segen\n\nsingen
  – auftanken – hören – abladen – ermutigen – beten //
  erfrischend – heilsam – wohltuend – segensreich\n\nDas Lob
  (Worship) mit deutschsprachigen und englischen Anbetungsliedern steht im
  Mittelpunkt. Der Worship ist bewusst einfach gestaltet und lädt zum
  Mitsingen ein. \nDie Anlässe werden von Pfr. Matthias Fehr geleitet.
  Eine Anmeldung ist nicht nötig. Alle sind willkommen das Angebot zu
  nutzen\, von nah und fern\, auch ohne Kirchenzugehörigkeit. Wagen Sie
  es. Wir freuen uns auf Sie.\n\nBei 'Praise n Pray' bieten wir Gebet für
  Menschen mit gesundheitlichen Problemen an. Persönlich glaube ich und
  erlebe es auch\, dass Gott in seiner Liebe Menschen begegnet. So gibt es
  die Möglichkeit in geschütztem Rahmen Heilungsgebet in Anspruch zu
  nehmen. Gottes Gegenwart\, die Kraft des Heiligen Geistes ist erlebbar.
  Seinen Segen dürfen wir zusprechen.\n\nEs liegt nicht in unserer Hand\,
  ob jemand geheilt wird oder nicht. Wir beten jedoch stets im Vertrauen zu
  Gott\, möchten Ihn ehren und dürfen Gutes von Ihm erwarten.
  Handauflegen gehört dabei dazu - natürlich nur wenn erwünscht - und
  das Ansprechen des Leidens bzw. das betende Einstehen für Gesundheit und
  Wohlbefinden.  \n\n'Praise n Pray' ist kein Ersatz für den
  Sonntagsgottesdienst und dennoch ein gottesdienstlicher Anlass. 
 \nHerzlich willkommen!\n\nMehr unter: https://www.refkirchehoefe.ch/praise
 \n\nPfarrer Matthias Fehr\, Hofstrasse 2a\, 8808 Pfäffikon\,
  matthias.fehr@refkirchehoefe.ch\, 079 601 33 83 
 \nhttps://www.refkirchehoefe.ch/pfarrer-matthias-fehr\n
 \nhttps://www.refkirchehoefe.ch/gruppe/ausblick\n\nKontakt: Pfarrer
  Matthias Fehr\n\nWeitere Infos:
  https://www.refkirchehoefe.ch/veranstaltung/12527
SUMMARY:Praise n Pray
PRIORITY:5
X-MICROSOFT-CDO-IMPORTANCE:1
CLASS:PUBLIC
END:VEVENT
END:VCALENDAR
