BEGIN:VCALENDAR
PRODID:-//kirchenweb.ch gmbh//veranstaltungsausgabe v2.0//DE
VERSION:2.0
METHOD:PUBLISH
BEGIN:VEVENT
DTSTART:20260419T080000Z
DTEND:20260419T090000Z
LOCATION:Ref. Kirche Wollerau in Wilen\, Kirchweg\, 8832 Wilen
TRANSP:OPAQUE
SEQUENCE:0
UID:12547-veranstaltung@refkirchehoefe.ch
DTSTAMP:20260419T112000Z
DESCRIPTION:Begegnungen mit dem Auferstandenen – damals und heute
 \nPredigtserie in der Osterzeit 2026\n\nTeil 2 – Über den Schleier der
  Traurigkeit\nMaria aber stand draussen vor dem Grab und weinte. […]
  Jesus spricht zu ihr: «Frau\, warum weinst du? Wen suchst du?» – aus
  Johannes 20\n\nWir freuen uns\, mit Ihnen Gottesdienst zu feiern.\n
 \nHerzlich willkommen! \n\nAnschliessend sind Sie herzlich zum
  Kirchenkaffee eingeladen.\n\n
 \nhttps://www.refkirchehoefe.ch/pfarrer-matthias-fehr.\n
 \nhttps://www.refkirchehoefe.ch/gottesdienstundpredigtonline\n
 \nhttps://www.refkirchehoefe.ch/gruppe/ausblick\n\n\nKontakt: Pfarrer
  Matthias Fehr\n\nWeitere Infos:
  https://www.refkirchehoefe.ch/veranstaltung/12547
SUMMARY:Gottesdienst - Osterserie Teil 2/6
PRIORITY:5
X-MICROSOFT-CDO-IMPORTANCE:1
CLASS:PUBLIC
END:VEVENT
END:VCALENDAR
