BEGIN:VCALENDAR
PRODID:-//kirchenweb.ch gmbh//veranstaltungsausgabe v2.0//DE
VERSION:2.0
METHOD:PUBLISH
BEGIN:VEVENT
DTSTART:20260517T080000Z
DTEND:20260517T090000Z
LOCATION:Ref. Kirche Wollerau in Wilen\, Kirchweg\, 8832 Wilen
TRANSP:OPAQUE
SEQUENCE:0
UID:12549-veranstaltung@refkirchehoefe.ch
DTSTAMP:20260401T113303Z
DESCRIPTION:Begegnungen mit dem Auferstandenen – damals und heute
 \nPredigtserie in der Osterzeit 2026\n\nTeil 6 – Nicht sehen und doch
  glauben?!\n"Wenn ich nicht an seinen Händen das Nägelmal sehe und
  meinen Finger in das Nägelmal lege und meine Hand in seine Seite lege\,
  so werde ich es niemals glauben!" – aus Johannes 20\n\nWir freuen uns\,
  mit Ihnen einen Gottesdienst mit Taufe zu feiern.\n\nHerzlich willkommen!
  \n\nIn diesem Gottesdienst können max. 2 Taufen oder Segnungen
  stattfinden\, die bis spät. 3 Wochen vor dem Gottesdienst angemeldet
  wurden. Die Sternchen (*) markieren die noch verbleibenden freie Plätze
  für eine Taufe oder Segnung.\n
 \nhttps://www.refkirchehoefe.ch/pfarrer-matthias-fehr.\n
 \nhttps://www.refkirchehoefe.ch/gottesdienstundpredigtonline\n
 \nhttps://www.refkirchehoefe.ch/gruppe/ausblick\n\n\nKontakt: Pfarrer
  Matthias Fehr\n\nWeitere Infos:
  https://www.refkirchehoefe.ch/veranstaltung/12549
SUMMARY:Gottesdienst - Osterserie Teil 6 - mit Taufe
PRIORITY:5
X-MICROSOFT-CDO-IMPORTANCE:1
CLASS:PUBLIC
END:VEVENT
END:VCALENDAR
