BEGIN:VCALENDAR
PRODID:-//kirchenweb.ch gmbh//veranstaltungsausgabe v2.0//DE
VERSION:2.0
METHOD:PUBLISH
BEGIN:VEVENT
DTSTART:20260823T080000Z
DTEND:20260823T090000Z
LOCATION:Ref. Kirche Wollerau in Wilen\, Kirchweg\, 8832 Wilen
TRANSP:OPAQUE
SEQUENCE:0
UID:12552-veranstaltung@refkirchehoefe.ch
DTSTAMP:20260325T164043Z
DESCRIPTION:Wir freuen uns\, mit Ihnen Gottesdienst zu feiern und wir
  freuen uns\, dass wir zwei Kinder taufen dürfen.\n\nHerzlich willkommen!
  \n\nAnschliessend sind Sie herzlich zum Kirchenkaffee eingeladen.\n\n\n\n
 \nhttps://www.refkirchehoefe.ch/pfarrer-matthias-fehr.\n
 \nhttps://www.refkirchehoefe.ch/gottesdienstundpredigtonline\n
 \nhttps://www.refkirchehoefe.ch/gruppe/ausblick\n\n\nKontakt: Pfarrer
  Matthias Fehr\n\nWeitere Infos:
  https://www.refkirchehoefe.ch/veranstaltung/12552
SUMMARY:Gottesdienst mit Taufen
PRIORITY:5
X-MICROSOFT-CDO-IMPORTANCE:1
CLASS:PUBLIC
END:VEVENT
END:VCALENDAR
