BEGIN:VCALENDAR
PRODID:-//kirchenweb.ch gmbh//veranstaltungsausgabe v2.0//DE
VERSION:2.0
METHOD:PUBLISH
BEGIN:VEVENT
DTSTART:20260927T170000Z
DTEND:20260927T180000Z
LOCATION:Ref. Kirche Wollerau in Wilen\, Kirchweg\, 8832 Wilen
TRANSP:OPAQUE
SEQUENCE:0
UID:12554-veranstaltung@refkirchehoefe.ch
DTSTAMP:20251219T145036Z
DESCRIPTION:Wir freuen uns\, mit Ihnen Gottesdienst zu feiern.\nBitte
  beachten Sie: Der punkt7 Gottesdienst findet ausnahmsweise in der Kirche
  Wollerau in Wilen statt. (Die Kinderspielwoche findet im KGH statt)\n
 \nHerzlich willkommen! \n\n
 \nhttps://www.refkirchehoefe.ch/pfarrer-matthias-fehr.\n
 \nhttps://www.refkirchehoefe.ch/gottesdienstundpredigtonline\n
 \nhttps://www.refkirchehoefe.ch/gruppe/ausblick\n\n\nKontakt: Pfarrer
  Matthias Fehr\n\nWeitere Infos:
  https://www.refkirchehoefe.ch/veranstaltung/12554
SUMMARY:punkt7 Gottesdienst
PRIORITY:5
X-MICROSOFT-CDO-IMPORTANCE:1
CLASS:PUBLIC
END:VEVENT
END:VCALENDAR
