BEGIN:VCALENDAR
PRODID:-//kirchenweb.ch gmbh//veranstaltungsausgabe v2.0//DE
VERSION:2.0
METHOD:PUBLISH
BEGIN:VEVENT
DTSTART:20261101T090000Z
DTEND:20261101T100000Z
LOCATION:Ref. Kirche Wollerau in Wilen\, Kirchweg\, 8832 Wilen
TRANSP:OPAQUE
SEQUENCE:0
UID:12556-veranstaltung@refkirchehoefe.ch
DTSTAMP:20260129T095746Z
DESCRIPTION:Wir freuen uns\, mit Ihnen einen Gottesdienst mit Abendmahl zu
  feiern.\n\nHerzlich willkommen! \n\nIm Anschluss gibt die Harmonie
  Freienbach ein Platzkonzert.\nEbenfalls sind Sie herzlich zum
  Kirchenkaffee eingeladen.\n
 \nhttps://www.refkirchehoefe.ch/pfarrer-matthias-fehr.\n
 \nhttps://www.refkirchehoefe.ch/gottesdienstundpredigtonline\n
 \nhttps://www.refkirchehoefe.ch/gruppe/ausblick\n\n\nKontakt: Pfarrer
  Matthias Fehr\n\nWeitere Infos:
  https://www.refkirchehoefe.ch/veranstaltung/12556
SUMMARY:Gottesdienst am Reformationssonntag - mit Abendmahl
PRIORITY:5
X-MICROSOFT-CDO-IMPORTANCE:1
CLASS:PUBLIC
END:VEVENT
END:VCALENDAR
