BEGIN:VCALENDAR
PRODID:-//kirchenweb.ch gmbh//veranstaltungsausgabe v2.0//DE
VERSION:2.0
METHOD:PUBLISH
BEGIN:VEVENT
DTSTART:20260621T080000Z
DTEND:20260621T090000Z
LOCATION:Ref. Kirche Wollerau in Wilen\, Kirchweg\, 8832 Wilen
TRANSP:OPAQUE
SEQUENCE:0
UID:12561-veranstaltung@refkirchehoefe.ch
DTSTAMP:20260409T072152Z
DESCRIPTION:Kontakt: Pfarrer Matthias Fehr\n\nWeitere Infos:
  https://www.refkirchehoefe.ch/veranstaltung/12561
SUMMARY:'Nun danket alle Gott" - Kantatengottesdienst
PRIORITY:5
X-MICROSOFT-CDO-IMPORTANCE:1
CLASS:PUBLIC
END:VEVENT
END:VCALENDAR
