BEGIN:VCALENDAR
PRODID:-//kirchenweb.ch gmbh//veranstaltungsausgabe v2.0//DE
VERSION:2.0
METHOD:PUBLISH
BEGIN:VEVENT
DTSTART:20261129T090000Z
DTEND:20261129T100000Z
LOCATION:Ref. Kirche Wollerau in Wilen\, Kirchweg\, 8832 Wilen
TRANSP:OPAQUE
SEQUENCE:0
UID:12566-veranstaltung@refkirchehoefe.ch
DTSTAMP:20260317T144108Z
DESCRIPTION:Wir feiern den 1. Advent mit dem RejoySing Gospelchor\n\nNach
  dem punkt7-Gottesdienst sind Sie herzliche zum Apéro eingeladen.\nWir
  freuen uns auf Sie. Herzlich willkommen.\n\n
 \nhttps://www.refkirchehoefe.ch/pfarrer-matthias-fehr.\n\nKontakt: Pfarrer
  Matthias Fehr\n\nWeitere Infos:
  https://www.refkirchehoefe.ch/veranstaltung/12566
SUMMARY:Gottesdienst am 1. Advent - mit RejoySing Gospelchor
PRIORITY:5
X-MICROSOFT-CDO-IMPORTANCE:1
CLASS:PUBLIC
END:VEVENT
END:VCALENDAR
