BEGIN:VCALENDAR
PRODID:-//kirchenweb.ch gmbh//veranstaltungsausgabe v2.0//DE
VERSION:2.0
METHOD:PUBLISH
BEGIN:VEVENT
DTSTART:20260913T090000Z
DTEND:20260913T100000Z
LOCATION:Ref. Kirchgemeindehaus Pfäffikon\, Hofstrasse 2a\, 8808
  Pfäffikon
TRANSP:OPAQUE
SEQUENCE:0
UID:12567-veranstaltung@refkirchehoefe.ch
DTSTAMP:20251219T161822Z
DESCRIPTION:Wir feiern einen modernen Lobgottesdienst.\n\nTüröffnung:
  10.00 Uhr\nKaffee und Gipfeli\n\nGottesdienst: 11.00 Uhr\n\nKontakt:
  Pfarrer Matthias Fehr\n\nWeitere Infos:
  https://www.refkirchehoefe.ch/veranstaltung/12567
SUMMARY:punkt11 Gottesdienst -  Lobgottesdienst
PRIORITY:5
X-MICROSOFT-CDO-IMPORTANCE:1
CLASS:PUBLIC
END:VEVENT
END:VCALENDAR
