BEGIN:VCALENDAR
PRODID:-//kirchenweb.ch gmbh//veranstaltungsausgabe v2.0//DE
VERSION:2.0
METHOD:PUBLISH
BEGIN:VEVENT
DTSTART:20261110T150000Z
DTEND:20261110T160000Z
LOCATION:Altersresidenz Tertianum\, Huobstrasse 5\, 8808 Pfäffikon
TRANSP:OPAQUE
SEQUENCE:0
UID:12595-veranstaltung@refkirchehoefe.ch
DTSTAMP:20260217T083320Z
DESCRIPTION:Kontakt: Pfr. Matthias Fehr und Pfr. Urs Zihlmann\n\nWeitere
  Infos: https://www.refkirchehoefe.ch/veranstaltung/12595
SUMMARY:Ökumenischer Gottesdienst im Tertianum
PRIORITY:5
X-MICROSOFT-CDO-IMPORTANCE:1
CLASS:PUBLIC
END:VEVENT
END:VCALENDAR
