BEGIN:VCALENDAR
PRODID:-//kirchenweb.ch gmbh//veranstaltungsausgabe v2.0//DE
VERSION:2.0
METHOD:PUBLISH
BEGIN:VEVENT
DTSTART:20260915T083000Z
DTEND:20260915T091500Z
LOCATION:Pflegezentrum Pfarrmatte\, Pfarrmatte 1\, 8807 Freienbach
TRANSP:OPAQUE
SEQUENCE:0
UID:12599-veranstaltung@refkirchehoefe.ch
DTSTAMP:20260319T170711Z
DESCRIPTION:Kontakt: Pfarrer Matthias Fehr\n\nWeitere Infos:
  https://www.refkirchehoefe.ch/veranstaltung/12599
SUMMARY:Andacht/Gottesdienst im Pflegezentrum Pfarrmatte
PRIORITY:5
X-MICROSOFT-CDO-IMPORTANCE:1
CLASS:PUBLIC
END:VEVENT
END:VCALENDAR
