BEGIN:VCALENDAR
PRODID:-//kirchenweb.ch gmbh//veranstaltungsausgabe v2.0//DE
VERSION:2.0
METHOD:PUBLISH
BEGIN:VEVENT
DTSTART:20261216T150000Z
DTEND:20261216T160000Z
LOCATION:Pflegezentrum Roswitha\, Etzelstrasse 18\, 8808 Pfäffikon
TRANSP:OPAQUE
SEQUENCE:0
UID:12603-veranstaltung@refkirchehoefe.ch
DTSTAMP:20260217T083831Z
DESCRIPTION:Kontakt: Pfr. Matthias Fehr und Pfr. Urs Zihlmann\n\nWeitere
  Infos: https://www.refkirchehoefe.ch/veranstaltung/12603
SUMMARY:Ökumenischer Gottesdienst im Pflegezentrum Roswitha
PRIORITY:5
X-MICROSOFT-CDO-IMPORTANCE:1
CLASS:PUBLIC
END:VEVENT
END:VCALENDAR
