BEGIN:VCALENDAR
PRODID:-//kirchenweb.ch gmbh//veranstaltungsausgabe v2.0//DE
VERSION:2.0
METHOD:PUBLISH
BEGIN:VEVENT
DTSTART:20270916T160000Z
DTEND:20270916T190000Z
LOCATION:Ref. Kirchgemeindehaus Pfäffikon\, Hofstrasse 2a\, 8808
  Pfäffikon
TRANSP:OPAQUE
SEQUENCE:0
UID:12705-veranstaltung@refkirchehoefe.ch
DTSTAMP:20260227T101359Z
DESCRIPTION:Kontakt: matthias.fehr@refkirchehoefe.ch\n\nWeitere Infos:
  https://www.refkirchehoefe.ch/veranstaltung/12705
SUMMARY:Konzert mit Clemens Bittlinger & David Plüss
PRIORITY:5
X-MICROSOFT-CDO-IMPORTANCE:1
CLASS:PUBLIC
END:VEVENT
END:VCALENDAR
