BEGIN:VCALENDAR
PRODID:-//kirchenweb.ch gmbh//veranstaltungsausgabe v2.0//DE
VERSION:2.0
METHOD:PUBLISH
BEGIN:VEVENT
DTSTART:20260602T152000Z
DTEND:20260602T165000Z
LOCATION:Gemeinschaftsraum des Ref. Pfarrhaus Wollerau in Wilen\, Kirchweg
  \, 8832 Wilen
TRANSP:OPAQUE
SEQUENCE:0
UID:12823-veranstaltung@refkirchehoefe.ch
DTSTAMP:20250930T100446Z
DESCRIPTION:Kontakt: Pfarrer Daniel Lippuner\n\nWeitere Infos:
  https://www.refkirchehoefe.ch/veranstaltung/12823
SUMMARY:Konf-Unti
PRIORITY:5
X-MICROSOFT-CDO-IMPORTANCE:1
CLASS:PUBLIC
END:VEVENT
END:VCALENDAR
