BEGIN:VCALENDAR
PRODID:-//kirchenweb.ch gmbh//veranstaltungsausgabe v2.0//DE
VERSION:2.0
METHOD:PUBLISH
BEGIN:VEVENT
DTSTART:20260426T170000Z
DTEND:20260426T180000Z
LOCATION:Ref. Kirchgemeindehaus Pfäffikon\, Hofstrasse 2a\, 8808
  Pfäffikon
TRANSP:OPAQUE
SEQUENCE:0
UID:12827-veranstaltung@refkirchehoefe.ch
DTSTAMP:20260407T132929Z
DESCRIPTION:Predigtserie in der nachösterlichen Zeit vom 12.April-17.Mai
  2026\nBegegnungen mit dem Auferstandenen - damals und heute\n\n"Während
  vierzig Tagen hat er sich ihnen immer wieder gezeigt und vom Reich Gottes
  gesprochen. Und beim gemeinsamen Mahl hat er ihnen geboten\, nicht von
  Jerusalem wegzugehen\, sondern zu warten auf die verheissene Gabe des
  Vaters." (Apg 1\,3-4) \n\npunkt7 - Der andere Gottesdienst für die
  aktive Generation - ein Angebot\, das sich abhebt von den gewohnten
  Gottesdiensten.\n\nIm Anschluss an den Gottesdienst sind sie herzlich zum
  Apéro eingeladen.\n\nZum Flyer:
  https://www.refkirchehoefe.ch/bericht/246\n\nHier stehen Ihnen Predigten
  ausgewählter Gottesdienste zum Nachhören zur Verfügung »
  https://www.refkirchehoefe.ch/gottesdienstundpredigtonline\n\nFalls Sie
  gerne in der Kirchgemeinde mitwirken möchten\, melden Sie sich bei uns
  » https://www.refkirchehoefe.ch/pfarramt\n\nKontakt: Pfarrerin Rahel
  Eggenberger\n\nWeitere Infos:
  https://www.refkirchehoefe.ch/veranstaltung/12827
SUMMARY:punkt7 Gottesdienst anschl. Apéro - Osterserie Teil 3/6
PRIORITY:5
X-MICROSOFT-CDO-IMPORTANCE:1
CLASS:PUBLIC
END:VEVENT
END:VCALENDAR
