BEGIN:VCALENDAR
PRODID:-//kirchenweb.ch gmbh//veranstaltungsausgabe v2.0//DE
VERSION:2.0
METHOD:PUBLISH
BEGIN:VEVENT
DTSTART:20260510T080000Z
DTEND:20260510T090000Z
LOCATION:Ref. Kirche Wollerau in Wilen\, Kirchweg\, 8832 Wilen
TRANSP:OPAQUE
SEQUENCE:0
UID:12831-veranstaltung@refkirchehoefe.ch
DTSTAMP:20260414T145722Z
DESCRIPTION:Predigtserie in der nachösterlichen Zeit vom 12.April-17.Mai
  2026\nBegegnungen mit dem Auferstandenen - damals und heute\n\n"Es waren
  aber Maria Magdalena und Johanna und Maria\, des Jakobus Mutter\, und die
  andern Frauen mit ihnen; die sagten das den Aposteln. Aber diese hielten
  das alles für leeres Gerede und glaubten ihnen nicht." (Lukas 24\,10-11)
  \n\nZum Flyer: https://www.refkirchehoefe.ch/bericht/246\n\nHier stehen
  Ihnen Predigten ausgewählter Gottesdienste zum Nachhören zur Verfügung
  » https://www.refkirchehoefe.ch/gottesdienstundpredigtonline\n\nFalls
  Sie gerne in der Kirchgemeinde mitwirken möchten\, melden Sie sich bei
  uns » https://www.refkirchehoefe.ch/pfarramt\n\nKontakt: Pfarrerin Rahel
  Eggenberger\n\nWeitere Infos:
  https://www.refkirchehoefe.ch/veranstaltung/12831
SUMMARY:Gottesdienst - Osterserie Teil 5/6
PRIORITY:5
X-MICROSOFT-CDO-IMPORTANCE:1
CLASS:PUBLIC
END:VEVENT
END:VCALENDAR
