BEGIN:VCALENDAR
PRODID:-//kirchenweb.ch gmbh//veranstaltungsausgabe v2.0//DE
VERSION:2.0
METHOD:PUBLISH
BEGIN:VEVENT
DTSTART:20260524T080000Z
DTEND:20260524T090000Z
LOCATION:Ref. Kirche Wollerau in Wilen\, Kirchweg\, 8832 Wilen
TRANSP:OPAQUE
SEQUENCE:0
UID:12832-veranstaltung@refkirchehoefe.ch
DTSTAMP:20260409T082006Z
DESCRIPTION:Im Anschluss an den Gottesdienst sind sie herzlich zum
  Chilekafi eingeladen.\n\nHier stehen Ihnen Predigten ausgewählter
  Gottesdienste zum Nachhören zur Verfügung »
  https://www.refkirchehoefe.ch/gottesdienstundpredigtonline\n\nFalls Sie
  gerne in der Kirchgemeinde mitwirken möchten\, melden Sie sich bei uns
  » https://www.refkirchehoefe.ch/pfarramt\n\nKontakt: Pfarrerin Rahel
  Eggenberger\n\nWeitere Infos:
  https://www.refkirchehoefe.ch/veranstaltung/12832
SUMMARY:Pfingstgottesdienst mit Abendmahl
PRIORITY:5
X-MICROSOFT-CDO-IMPORTANCE:1
CLASS:PUBLIC
END:VEVENT
END:VCALENDAR
