BEGIN:VCALENDAR
PRODID:-//kirchenweb.ch gmbh//veranstaltungsausgabe v2.0//DE
VERSION:2.0
METHOD:PUBLISH
BEGIN:VEVENT
DTSTART:20260920T080000Z
DTEND:20260920T090000Z
LOCATION:Ref. Kirche Wollerau in Wilen\, Kirchweg\, 8832 Wilen
TRANSP:OPAQUE
SEQUENCE:0
UID:12834-veranstaltung@refkirchehoefe.ch
DTSTAMP:20260409T082514Z
DESCRIPTION:Im Anschluss an den Gottesdienst sind sie herzlich zum Apéro
  eingeladen.\n\nHier stehen Ihnen Predigten ausgewählter Gottesdienste
  zum Nachhören zur Verfügung »
  https://www.refkirchehoefe.ch/gottesdienstundpredigtonline\n\nFalls Sie
  gerne in der Kirchgemeinde mitwirken möchten\, melden Sie sich bei uns
  » https://www.refkirchehoefe.ch/pfarramt\n\nKontakt: Pfarrerin Rahel
  Eggenberger\n\nWeitere Infos:
  https://www.refkirchehoefe.ch/veranstaltung/12834
SUMMARY:Eidgn. Dank-Buss- und Bettag mit Abendmahl und Gast
PRIORITY:5
X-MICROSOFT-CDO-IMPORTANCE:1
CLASS:PUBLIC
END:VEVENT
END:VCALENDAR
