BEGIN:VCALENDAR
PRODID:-//kirchenweb.ch gmbh//veranstaltungsausgabe v2.0//DE
VERSION:2.0
METHOD:PUBLISH
BEGIN:VEVENT
DTSTART:20270101T160000Z
DTEND:20270101T170000Z
LOCATION:Ref. Kirche Wollerau in Wilen\, Kirchweg\, 8832 Wilen
TRANSP:OPAQUE
SEQUENCE:0
UID:12839-veranstaltung@refkirchehoefe.ch
DTSTAMP:20251001T133939Z
DESCRIPTION:Kontakt: Pfarrerin Rahel Eggenberger\n\nWeitere Infos:
  https://www.refkirchehoefe.ch/veranstaltung/12839
SUMMARY:Neujahrs-Soirée "Wort und Musik"
PRIORITY:5
X-MICROSOFT-CDO-IMPORTANCE:1
CLASS:PUBLIC
END:VEVENT
END:VCALENDAR
