BEGIN:VCALENDAR
PRODID:-//kirchenweb.ch gmbh//veranstaltungsausgabe v2.0//DE
VERSION:2.0
METHOD:PUBLISH
BEGIN:VEVENT
DTSTART:20270910T163000Z
DTEND:20270910T180000Z
LOCATION:Ref. Kirchgemeindehaus Pfäffikon\, Hofstrasse 2\, 8808
  Pfäffikon
TRANSP:OPAQUE
SEQUENCE:0
UID:13016-veranstaltung@refkirchehoefe.ch
DTSTAMP:20251006T144249Z
DESCRIPTION:Fotorückblick-PowerPoint: Die Lagergemeinschaft\, deren
  Familien und Freunde\, sowie Lagerinteressierte und Lageroldies tauchen
  in das vergangene Lager ein. Anschliessend wird bei Kaffee und Kuchen
  noch etwas geplaudert und Freundschaften vertieft.\n\nKontakt: Karin
  Wälli\n\nWeitere Infos:
  https://www.refkirchehoefe.ch/veranstaltung/13016
SUMMARY:Sommerlager Fotorückblick
PRIORITY:5
X-MICROSOFT-CDO-IMPORTANCE:1
CLASS:PUBLIC
END:VEVENT
END:VCALENDAR
