BEGIN:VCALENDAR
PRODID:-//kirchenweb.ch gmbh//veranstaltungsausgabe v2.0//DE
VERSION:2.0
METHOD:PUBLISH
BEGIN:VEVENT
DTSTART:20260628T160000Z
DTEND:20260628T180000Z
LOCATION:Ref. Kirchgemeindehaus Pfäffikon\, Hofstrasse 2\, 8808
  Pfäffikon
TRANSP:OPAQUE
SEQUENCE:0
UID:13135-veranstaltung@refkirchehoefe.ch
DTSTAMP:20260402T132408Z
DESCRIPTION:Wir laden Jugendliche ab der 6. Klasse herzlich zum z'Nacht um
  18.00 Uhr ein. Der anschliessende "punkt7"-Gottesdienst wird
  generationenübergreifend gestaltet sein.\n\nKontakt: Pfarrer Daniel
  Lippuner\n\nWeitere Infos:
  https://www.refkirchehoefe.ch/veranstaltung/13135
SUMMARY:'foundship'-z'Nacht für Jugendliche ab 6. Klasse
PRIORITY:5
X-MICROSOFT-CDO-IMPORTANCE:1
CLASS:PUBLIC
END:VEVENT
END:VCALENDAR
