BEGIN:VCALENDAR
PRODID:-//kirchenweb.ch gmbh//veranstaltungsausgabe v2.0//DE
VERSION:2.0
METHOD:PUBLISH
BEGIN:VEVENT
DTSTART:20260906T160000Z
DTEND:20260906T180000Z
LOCATION:Ref. Kirchgemeindehaus Pfäffikon\, Hofstrasse 2\, 8808
  Pfäffikon
TRANSP:OPAQUE
SEQUENCE:0
UID:13136-veranstaltung@refkirchehoefe.ch
DTSTAMP:20251210T053337Z
DESCRIPTION:Wir freuen uns\, den Sonntagabend mit dir zusammen ausklingen
  zu lassen!\n18.00h: Jugendgottesdienst   ¦  18.45h: z'Nacht   ¦   ab
  19.15h: Jugendraum (bis 20.30h)\n\nKontakt: Pfarrer Daniel Lippuner\n
 \nWeitere Infos: https://www.refkirchehoefe.ch/veranstaltung/13136
SUMMARY:'foundship' -- Jugendgottesdienst mit Food & Chill
PRIORITY:5
X-MICROSOFT-CDO-IMPORTANCE:1
CLASS:PUBLIC
END:VEVENT
END:VCALENDAR
