BEGIN:VCALENDAR
PRODID:-//kirchenweb.ch gmbh//veranstaltungsausgabe v2.0//DE
VERSION:2.0
METHOD:PUBLISH
BEGIN:VEVENT
DTSTART:20261115T170000Z
DTEND:20261115T193000Z
LOCATION:Ref. Kirchgemeindehaus Pfäffikon\, Hofstrasse 2\, 8808
  Pfäffikon
TRANSP:OPAQUE
SEQUENCE:0
UID:13137-veranstaltung@refkirchehoefe.ch
DTSTAMP:20251210T053952Z
DESCRIPTION:An diesem Anlass wird "foundship" mit "praise n pray"
  verbunden.\nWir laden Dich herzlich ein zu einem z'Nacht um 18.00 Uhr im
  Kirchgemeindehaus.\nAnschliessend findet um 19.00 Uhr der
  generationenübergreifende "praise n pray" statt.\n\nKontakt: Pfarrer
  Daniel Lippuner\n\nWeitere Infos:
  https://www.refkirchehoefe.ch/veranstaltung/13137
SUMMARY:'foundship' meets 'praise n pray' -- generationsübergreifender
  Lobgottesdienst mit vorgängigem z'Nacht
PRIORITY:5
X-MICROSOFT-CDO-IMPORTANCE:1
CLASS:PUBLIC
END:VEVENT
END:VCALENDAR
