BEGIN:VCALENDAR
PRODID:-//kirchenweb.ch gmbh//veranstaltungsausgabe v2.0//DE
VERSION:2.0
METHOD:PUBLISH
BEGIN:VEVENT
DTSTART:20261206T170000Z
DTEND:20261206T180000Z
LOCATION:Extern\, wird noch bekanntgegeben!\, Hofstrasse 2\, 8808
  Pfäffikon
TRANSP:OPAQUE
SEQUENCE:0
UID:13138-veranstaltung@refkirchehoefe.ch
DTSTAMP:20251204T101036Z
DESCRIPTION:Wir freuen uns\, den letzten 'foundship' im Jahr in
  vorweihnächtlicher Stimmung mit dir zusammen zu feiern!\n\n\nKontakt:
  Pfarrer Daniel Lippuner\n\nWeitere Infos:
  https://www.refkirchehoefe.ch/veranstaltung/13138
SUMMARY:'foundship' -- Jugendgottesdienst mit Food & Chill (Achtung:
  externer Anlass!)
PRIORITY:5
X-MICROSOFT-CDO-IMPORTANCE:1
CLASS:PUBLIC
END:VEVENT
END:VCALENDAR
