BEGIN:VCALENDAR
PRODID:-//kirchenweb.ch gmbh//veranstaltungsausgabe v2.0//DE
VERSION:2.0
METHOD:PUBLISH
BEGIN:VEVENT
DTSTART:20261115T090000Z
DTEND:20261115T100000Z
LOCATION:Ref. Kirche Wollerau in Wilen\, Kirchweg\, 8832 Wilen
TRANSP:OPAQUE
SEQUENCE:0
UID:13141-veranstaltung@refkirchehoefe.ch
DTSTAMP:20260415T124559Z
DESCRIPTION:In diesem Gottesdienst können max. 3 Taufen oder Segnungen
  stattfinden\, die bis spät. 3 Wochen vor dem Gottesdienst angemeldet
  wurden. Die Sternchen (*) markieren die noch verbleibenden freie Plätze
  für eine Taufe oder Segnung.\n\nKontakt: Pfarrer Daniel Lippuner\n
 \nWeitere Infos: https://www.refkirchehoefe.ch/veranstaltung/13141
SUMMARY:Gottesdienst mit Taufe/Segnung **
PRIORITY:5
X-MICROSOFT-CDO-IMPORTANCE:1
CLASS:PUBLIC
END:VEVENT
END:VCALENDAR
