BEGIN:VCALENDAR
PRODID:-//kirchenweb.ch gmbh//veranstaltungsausgabe v2.0//DE
VERSION:2.0
METHOD:PUBLISH
BEGIN:VEVENT
DTSTART:20260830T170000Z
DTEND:20260830T180000Z
LOCATION:Ref. Kirchgemeindehaus Pfäffikon\, Hofstrasse 2\, 8808
  Pfäffikon
TRANSP:OPAQUE
SEQUENCE:0
UID:13144-veranstaltung@refkirchehoefe.ch
DTSTAMP:20251210T053209Z
DESCRIPTION:Der andere Gottesdienst für die aktive Generation - ein
  Angebot\, das sich abhebt von den gewohnten Gottesdiensten. Dieser
  Gottesdienst ist auch gleich der Auftakt ins neue Konfirmandenjahr.\n\n
 \nKontakt: Pfarrer Daniel Lippuner\n\nWeitere Infos:
  https://www.refkirchehoefe.ch/veranstaltung/13144
SUMMARY:punkt7 Gottesdienst - Start ins Konfjahr
PRIORITY:5
X-MICROSOFT-CDO-IMPORTANCE:1
CLASS:PUBLIC
END:VEVENT
END:VCALENDAR
