BEGIN:VCALENDAR
PRODID:-//kirchenweb.ch gmbh//veranstaltungsausgabe v2.0//DE
VERSION:2.0
METHOD:PUBLISH
BEGIN:VEVENT
DTSTART:20260503T080000Z
DTEND:20260503T090000Z
LOCATION:Ref. Kirche Wollerau in Wilen\, Kirchweg\, 8832 Wilen
TRANSP:OPAQUE
SEQUENCE:0
UID:13148-veranstaltung@refkirchehoefe.ch
DTSTAMP:20260409T071859Z
DESCRIPTION:Begegnung mit dem Auferstandenen - damals und heute
 \nPredigtserie in der Osterzeit 2026\n\nTeil 4 - All jene\, bei denen der
  Herr mitwirkt\nDer geheimnisvolle Schluss des Markus-Evangeliums zeigt
  vielfältige Reaktionen auf Verkündigung und Wunder: Unglauben und
  Aufbruch. Trotz umstrittener Herkunft birgt der Text Perlen: Gott macht
  die Jünger zu seinen Mitarbeitern (zu Mk 16)\n\nWir freuen uns\, mit
  Ihnen den Gottesdienst zu feiern.\n\nHerzlich willkommen!\n\nKontakt:
  Pfarrer Daniel Lippuner\n\nWeitere Infos:
  https://www.refkirchehoefe.ch/veranstaltung/13148
SUMMARY:Gottesdienst mit anschl. Kirchenkaffee - Osterserie Teil 4/6
PRIORITY:5
X-MICROSOFT-CDO-IMPORTANCE:1
CLASS:PUBLIC
END:VEVENT
END:VCALENDAR
