BEGIN:VCALENDAR
PRODID:-//kirchenweb.ch gmbh//veranstaltungsausgabe v2.0//DE
VERSION:2.0
METHOD:PUBLISH
BEGIN:VEVENT
DTSTART:20260607T080000Z
DTEND:20260607T090000Z
LOCATION:Ref. Kirche Wollerau in Wilen\, Kirchweg\, 8832 Wilen
TRANSP:OPAQUE
SEQUENCE:0
UID:13149-veranstaltung@refkirchehoefe.ch
DTSTAMP:20260322T123416Z
DESCRIPTION:Kontakt: Pfarrer Daniel Lippuner\n\nWeitere Infos:
  https://www.refkirchehoefe.ch/veranstaltung/13149
SUMMARY:Gottesdienst
PRIORITY:5
X-MICROSOFT-CDO-IMPORTANCE:1
CLASS:PUBLIC
END:VEVENT
END:VCALENDAR
