BEGIN:VCALENDAR
PRODID:-//kirchenweb.ch gmbh//veranstaltungsausgabe v2.0//DE
VERSION:2.0
METHOD:PUBLISH
BEGIN:VEVENT
DTSTART:20261206T090000Z
DTEND:20261206T100000Z
LOCATION:Ref. Kirche Wollerau in Wilen\, Kirchweg\, 8832 Wilen
TRANSP:OPAQUE
SEQUENCE:0
UID:13154-veranstaltung@refkirchehoefe.ch
DTSTAMP:20251210T065712Z
DESCRIPTION:Kontakt: Pfarrer Daniel Lippuner\n\nWeitere Infos:
  https://www.refkirchehoefe.ch/veranstaltung/13154
SUMMARY:Gottesdienst
PRIORITY:5
X-MICROSOFT-CDO-IMPORTANCE:1
CLASS:PUBLIC
END:VEVENT
END:VCALENDAR
