BEGIN:VCALENDAR
PRODID:-//kirchenweb.ch gmbh//veranstaltungsausgabe v2.0//DE
VERSION:2.0
METHOD:PUBLISH
BEGIN:VEVENT
DTSTART:20260617T080000Z
DTEND:20260617T084500Z
LOCATION:Alterszentrum am Etzel\, Dorfstrasse 55\, 8835 Feusisberg
TRANSP:OPAQUE
SEQUENCE:0
UID:13328-veranstaltung@refkirchehoefe.ch
DTSTAMP:20260106T103503Z
DESCRIPTION:Gottesdienst für Bewohnerinnen\, Bewohner und Gäste.\n
 \nKontakt: Pfarrerin Rahel Eggenberger\n\nWeitere Infos:
  https://www.refkirchehoefe.ch/veranstaltung/13328
SUMMARY:Gottesdienst im Alterszentrum am Etzel
PRIORITY:5
X-MICROSOFT-CDO-IMPORTANCE:1
CLASS:PUBLIC
END:VEVENT
END:VCALENDAR
