BEGIN:VCALENDAR
PRODID:-//kirchenweb.ch gmbh//veranstaltungsausgabe v2.0//DE
VERSION:2.0
METHOD:PUBLISH
BEGIN:VEVENT
DTSTART:20261210T093000Z
DTEND:20261210T101500Z
LOCATION:Alterszentrum Turm-Matt\, Bahnhofstrasse 16\, 8832 Wollerau
TRANSP:OPAQUE
SEQUENCE:0
UID:13346-veranstaltung@refkirchehoefe.ch
DTSTAMP:20260106T104536Z
DESCRIPTION:Gottesdienst für Bewohnerinnen\, Bewohner und Gäste.\n
 \nKontakt: Pfarrerin Rahel Eggenberger\n\nWeitere Infos:
  https://www.refkirchehoefe.ch/veranstaltung/13346
SUMMARY:Gottesdienst im Alterszentrum Turmmatt
PRIORITY:5
X-MICROSOFT-CDO-IMPORTANCE:1
CLASS:PUBLIC
END:VEVENT
END:VCALENDAR
