BEGIN:VCALENDAR
PRODID:-//kirchenweb.ch gmbh//veranstaltungsausgabe v2.0//DE
VERSION:2.0
METHOD:PUBLISH
BEGIN:VEVENT
DTSTART:20260809T080000Z
DTEND:20260809T090000Z
LOCATION:Ref. Kirche Wollerau in Wilen\, Kirchweg\, 8832 Wilen
TRANSP:OPAQUE
SEQUENCE:0
UID:13350-veranstaltung@refkirchehoefe.ch
DTSTAMP:20251210T053052Z
DESCRIPTION:Nach dem Gottesdienst sind alle Besucher zum Kaffee in der
  Unterkirche eingeladen.\n\nKontakt: Pfarrer Daniel Lippuner\n\nWeitere
  Infos: https://www.refkirchehoefe.ch/veranstaltung/13350
SUMMARY:Gottesdienst mit anschliessendem Kirchenkaffee
PRIORITY:5
X-MICROSOFT-CDO-IMPORTANCE:1
CLASS:PUBLIC
END:VEVENT
END:VCALENDAR
