BEGIN:VCALENDAR
PRODID:-//kirchenweb.ch gmbh//veranstaltungsausgabe v2.0//DE
VERSION:2.0
METHOD:PUBLISH
BEGIN:VEVENT
DTSTART:20261031T170000Z
DTEND:20261031T210000Z
LOCATION:Ref. Kirchgemeindehaus Pfäffikon\, Hofstrasse 2a\, 8808
  Pfäffikon
TRANSP:OPAQUE
SEQUENCE:0
UID:13462-veranstaltung@refkirchehoefe.ch
DTSTAMP:20251121T184326Z
DESCRIPTION:Kontakt: alexander.goetz@refkirchehoefe.ch\n\nWeitere Infos:
  https://www.refkirchehoefe.ch/veranstaltung/13462
SUMMARY:escape active Kostüm Party im Switch
PRIORITY:5
X-MICROSOFT-CDO-IMPORTANCE:1
CLASS:PUBLIC
END:VEVENT
END:VCALENDAR
