BEGIN:VCALENDAR
PRODID:-//kirchenweb.ch gmbh//veranstaltungsausgabe v2.0//DE
VERSION:2.0
METHOD:PUBLISH
BEGIN:VEVENT
DTSTART:20260811T083000Z
DTEND:20260811T091500Z
LOCATION:Pflegezentrum Pfarrmatte\, Pfarrmatte 1\, 8807 Freienbach
TRANSP:OPAQUE
SEQUENCE:0
UID:13477-veranstaltung@refkirchehoefe.ch
DTSTAMP:20260309T081742Z
DESCRIPTION:Gottesdienst für Bewohnerinnen und Bewohner.\n\n\nKontakt:
  Elisabeth Härter\n\nWeitere Infos:
  https://www.refkirchehoefe.ch/veranstaltung/13477
SUMMARY:Andacht/Gottesdienst im Pflegezentrum Pfarrmatte
PRIORITY:5
X-MICROSOFT-CDO-IMPORTANCE:1
CLASS:PUBLIC
END:VEVENT
END:VCALENDAR
