BEGIN:VCALENDAR
PRODID:-//kirchenweb.ch gmbh//veranstaltungsausgabe v2.0//DE
VERSION:2.0
METHOD:PUBLISH
BEGIN:VEVENT
DTSTART:20260224T180000Z
DTEND:20260224T203000Z
LOCATION:Ref. Kirchgemeindehaus Pfäffikon\, Hofstrasse 2a\, 8808
  Pfäffikon
TRANSP:OPAQUE
SEQUENCE:0
UID:13492-veranstaltung@refkirchehoefe.ch
DTSTAMP:20260224T173232Z
DESCRIPTION:Mit 'The Chosen' Glauben neu sehen \n'The Chosen' ist ein
  Phänomen. Die vielen Superlative\, die von Millionen Zuschauern rund um
  die Jesus-Serie genannt werden\, sagen deutlich: Hier wurde etwas
  Aussergewöhnliches geschaffen\, das nun in Staffel 2 einen weiteren
  Höhepunkt findet. Es warten spannende Momente auf Sie. Komm und sieh
  selbst!\n\n19.00 Uhr - Türöffnung\n19.15 Uhr - Infos zur Episode\n19.30
  Uhr - Filmbeginn\n20.30 Uhr - Pause\n20.45 Uhr - Austausch und Vertiefung
 \n21.15 Uhr - Abschluss\n\nStaffel 2\, Episode 6 - Ungesetzlich\nInhalt: 
 \nNob\, Israel\, 1008 v. Chr. Der Priester Ahimelech belehrt seinen Sohn
  über die Schaubrote. David bittet Ahimelech\, seiner hungrigen Truppe
  die Schaubrote zu essen geben.\nJericho\, 26 n. Chr. Simon und Matthäus
  suchen im Vergnügungsviertel der Stadt nach Maria Magdalena. Sie finden
  sie und überreden sie zurückzukehren. Maria schämt sich\, die Gruppe
  verlassen zu haben und in ihr altes Leben zurückgekehrt zu sein. Sie
  fühlt sich unwürdig\, doch Jesus vergibt ihr. Die Gruppe erfährt\,
  dass Johannes der Täufer von König Herodes verhaftet wurde. Thomas
  berichtet Jesus\, dass sie mit Lebensmittelknappheit zu kämpfen haben.
  Jesus besucht mit seinen Schülern die Synagoge in Wadi Qelt und heilt
  dort einen Mann mit einer verdorrten Hand\, was die Pharisäer als
  Verstoß gegen das Sabbatgebot anprangern. Auf dem Rückweg erlaubt Jesus
  seinen hungrigen Schülern die Getreideähren zu pflücken und zu essen.
  Die Pharisäer sind erzürnt\, doch Jesus verweist auf den Bericht über
  König David und die Schaubrote und erklärt sich selbst zum Menschensohn
  und zum Herrn über den Sabbat.\n\nKontakt: Pfarrer Matthias Fehr\n
 \nWeitere Infos: https://www.refkirchehoefe.ch/veranstaltung/13492
SUMMARY:Filmabend: The Chosen - 6/8 - Ungesetzlich
PRIORITY:5
X-MICROSOFT-CDO-IMPORTANCE:1
CLASS:PUBLIC
END:VEVENT
END:VCALENDAR
