BEGIN:VCALENDAR
PRODID:-//kirchenweb.ch gmbh//veranstaltungsausgabe v2.0//DE
VERSION:2.0
METHOD:PUBLISH
BEGIN:VEVENT
DTSTART:20260423T123000Z
DTEND:20260423T133000Z
LOCATION:Ref. Kirchgemeindehaus Pfäffikon\, Hofstrasse 2a\, 8808
  Pfäffikon
TRANSP:OPAQUE
SEQUENCE:0
UID:13575-veranstaltung@refkirchehoefe.ch
DTSTAMP:20251211T125252Z
DESCRIPTION:Gemeinsam bewegen wir uns regelmässig\, um unsere Gesundheit
  zu fördern und fit zu bleiben.\n\nKontakt: Elisabeth Härter\n\nWeitere
  Infos: https://www.refkirchehoefe.ch/veranstaltung/13575
SUMMARY:64plus Gesundheitsturnen
PRIORITY:5
X-MICROSOFT-CDO-IMPORTANCE:1
CLASS:PUBLIC
END:VEVENT
END:VCALENDAR
