BEGIN:VCALENDAR
PRODID:-//kirchenweb.ch gmbh//veranstaltungsausgabe v2.0//DE
VERSION:2.0
METHOD:PUBLISH
BEGIN:VEVENT
DTSTART:20260430T123000Z
DTEND:20260430T133000Z
LOCATION:Ref. Kirchgemeindehaus Pfäffikon\, Hofstrasse 2a\, 8808
  Pfäffikon
TRANSP:OPAQUE
SEQUENCE:0
UID:13585-veranstaltung@refkirchehoefe.ch
DTSTAMP:20251217T111743Z
DESCRIPTION:Kontakt: Elisabeth Härter\n\nWeitere Infos:
  https://www.refkirchehoefe.ch/veranstaltung/13585
SUMMARY:64plus Gesundheitsturnen - findet nicht statt
PRIORITY:5
X-MICROSOFT-CDO-IMPORTANCE:1
CLASS:PUBLIC
END:VEVENT
END:VCALENDAR
