BEGIN:VCALENDAR
PRODID:-//kirchenweb.ch gmbh//veranstaltungsausgabe v2.0//DE
VERSION:2.0
METHOD:PUBLISH
BEGIN:VEVENT
DTSTART:20270103T101500Z
DTEND:20270103T110000Z
LOCATION:Unterkirche\, \,
TRANSP:OPAQUE
SEQUENCE:0
UID:13683-veranstaltung@refkirchehoefe.ch
DTSTAMP:20251219T112010Z
DESCRIPTION:Im Anschluss an den Gottesdienst sind Sie herzlich zum
  Chilekafi in der Unterkirche eingeladen.\n\nKontakt:
  matthias.fehr@refkirchehoefe.ch\n\nWeitere Infos:
  https://www.refkirchehoefe.ch/veranstaltung/13683
SUMMARY:Kirchenkaffee
PRIORITY:5
X-MICROSOFT-CDO-IMPORTANCE:1
CLASS:PUBLIC
END:VEVENT
END:VCALENDAR
