BEGIN:VCALENDAR
PRODID:-//kirchenweb.ch gmbh//veranstaltungsausgabe v2.0//DE
VERSION:2.0
METHOD:PUBLISH
BEGIN:VEVENT
DTSTART:20260306T180000Z
DTEND:20260306T193000Z
LOCATION:Ref. Kirche Wollerau in Wilen\, \,
TRANSP:OPAQUE
SEQUENCE:0
UID:13829-veranstaltung@refkirchehoefe.ch
DTSTAMP:20260326T133605Z
DESCRIPTION:Weltgebetstag – Abendgottesdienst\n \nFr. 06.03.2026\, 19.00
  bis 20.00 Uhr\, anschl. kleiner Imbiss\nRef. Kirche Wollerau in Wilen\n 
 \nWeltgebetstag 2026 Nigeria\n \nJedes Jahr kommt die
  Weltgebetstag-Liturgie aus einer der 7 Weltgebetstag-Regionen und wird
  dann weltweit in den einzelnen Ländern in die jeweilige Landessprache
  übersetzt. 2026 ist die Region Afrika an der Reihe und daraus das Land
  Nigeria.\n \n„Ich will euch stärken\, kommt!“ lautet die der Titel
  der Feier. So spricht Jesus zu uns im Evangelium von Matthäus. Wie es
  das Titelbild bereits ausdrückt tragen wir alle unsere Lasten. Das
  können körperliche Lasten sein oder auch seelische Belastungen.\n 
 \nAnhand verschiedener Lebensgeschichten stellen Frauen aus Nigeria ihr
  Land\, ihre Kultur und ihre Lebensumstände vor und schildern
  eindrücklich\, wie die Kraft des Glaubens ihnen hilft\, auch in schweren
  Zeiten in Gott und Jesus immer wieder Kraft zu finden. Immer wieder
  spricht die Liturgie uns direkt an und macht Bezüge zu unserem Leben
  hier bei uns.\n \nDas oekumenische Vorbereitungsteam lädt ganz herzlich
  ein zu einem besinnungsvollen Abend mit Musik\, Texten und in
  Verbundenheit mit unsern Schwestern im Glauben in Nigeria.\n \nWir danken
  herzlich für Ihr engagiertes Mitwirken beim Weltgebetstag und für Ihren
  grossen Einsatz für die WGT-Projekte 2026. Die Kollekten der WGT-Feiern
  zu Nigeria schaffen weltweit neue Zukunftsperspektiven für viele Frauen
  und ihre Angehörigen.\n \nDanke für Ihr inspiriertes Beten\, Arbeiten
  und Feiern.\n \nWir wünschen Ihnen rund um den Weltgebetstag 2026 viele
  stärkende Begegnungen\, eine stimmige Feier in weltweiter Verbundenheit
  und erfüllte Stunden.\n\nKontakt: Alexander Seidel\n\nWeitere Infos:
  https://www.refkirchehoefe.ch/veranstaltung/13829
SUMMARY:Weltgebetstag - Abendgottesdienst
PRIORITY:5
X-MICROSOFT-CDO-IMPORTANCE:1
CLASS:PUBLIC
END:VEVENT
END:VCALENDAR
